{
 "currentVersion": 10.81,
 "serviceDescription": "",
 "mapName": "Layers",
 "description": "",
 "copyrightText": "",
 "supportsDynamicLayers": false,
 "layers": [
  {
   "id": 0,
   "name": "Aerial2014",
   "parentLayerId": -1,
   "defaultVisibility": true,
   "subLayerIds": null,
   "minScale": 0,
   "maxScale": 0,
   "type": "Raster Catalog Layer",
   "geometryType": "esriGeometryPolygon"
  }
 ],
 "tables": [],
 "spatialReference": {
  "wkid": 102100,
  "latestWkid": 3857
 },
 "singleFusedMapCache": true,
 "tileInfo": {
  "rows": 256,
  "cols": 256,
  "dpi": 96,
  "format": "PNG8",
  "compressionQuality": 0,
  "origin": {
   "x": -20037700,
   "y": 30241100
  },
  "spatialReference": {
   "wkid": 102100,
   "latestWkid": 3857
  },
  "lods": [
   {
    "level": 0,
    "resolution": 19.109304885276437,
    "scale": 72224
   },
   {
    "level": 1,
    "resolution": 9.554652442638218,
    "scale": 36112
   },
   {
    "level": 2,
    "resolution": 4.777326221319109,
    "scale": 18056
   },
   {
    "level": 3,
    "resolution": 2.3886631106595546,
    "scale": 9028
   },
   {
    "level": 4,
    "resolution": 1.1943315553297773,
    "scale": 4514
   },
   {
    "level": 5,
    "resolution": 0.5971657776648887,
    "scale": 2257
   },
   {
    "level": 6,
    "resolution": 0.2984505969011938,
    "scale": 1128
   },
   {
    "level": 7,
    "resolution": 0.1492252984505969,
    "scale": 564
   }
  ]
 },
 "initialExtent": {
  "xmin": -8954738.74723046,
  "ymin": 2946248.8257045094,
  "xmax": -8932884.563638398,
  "ymax": 2951573.3772841804,
  "spatialReference": {
   "cs": "pcs",
   "wkid": 102100
  }
 },
 "fullExtent": {
  "xmin": -8949755.592678951,
  "ymin": 2940816.6995833116,
  "xmax": -8937886.64481876,
  "ymax": 2951061.455634739,
  "spatialReference": {
   "cs": "pcs",
   "wkid": 102100
  }
 },
 "minScale": 72224,
 "maxScale": 564,
 "units": "esriMeters",
 "supportedImageFormatTypes": "PNG32,PNG24,PNG,JPG,DIB,TIFF,EMF,PS,PDF,GIF,SVG,SVGZ,BMP",
 "documentInfo": {
  "Title": "",
  "Author": "",
  "Comments": "",
  "Subject": "",
  "Category": "",
  "AntialiasingMode": "None",
  "TextAntialiasingMode": "Force",
  "Keywords": ""
 },
 "capabilities": "Map,Query,Data",
 "supportedQueryFormats": "JSON, geoJSON",
 "exportTilesAllowed": false,
 "referenceScale": 0,
 "supportsDatumTransformation": true,
 "maxRecordCount": 1000,
 "maxImageHeight": 4096,
 "maxImageWidth": 4096,
 "supportedExtensions": "KmlServer"
}
